BEGIN:VCALENDAR
VERSION:2.0
PRODID:-//May Hill Village - ECPv6.15.18//NONSGML v1.0//EN
CALSCALE:GREGORIAN
METHOD:PUBLISH
X-ORIGINAL-URL:https://mayhillvillage.com
X-WR-CALDESC:Events for May Hill Village
REFRESH-INTERVAL;VALUE=DURATION:PT1H
X-Robots-Tag:noindex
X-PUBLISHED-TTL:PT1H
BEGIN:VTIMEZONE
TZID:Europe/London
BEGIN:DAYLIGHT
TZOFFSETFROM:+0000
TZOFFSETTO:+0100
TZNAME:BST
DTSTART:20250330T010000
END:DAYLIGHT
BEGIN:STANDARD
TZOFFSETFROM:+0100
TZOFFSETTO:+0000
TZNAME:GMT
DTSTART:20251026T010000
END:STANDARD
BEGIN:DAYLIGHT
TZOFFSETFROM:+0000
TZOFFSETTO:+0100
TZNAME:BST
DTSTART:20260329T010000
END:DAYLIGHT
BEGIN:STANDARD
TZOFFSETFROM:+0100
TZOFFSETTO:+0000
TZNAME:GMT
DTSTART:20261025T010000
END:STANDARD
BEGIN:DAYLIGHT
TZOFFSETFROM:+0000
TZOFFSETTO:+0100
TZNAME:BST
DTSTART:20270328T010000
END:DAYLIGHT
BEGIN:STANDARD
TZOFFSETFROM:+0100
TZOFFSETTO:+0000
TZNAME:GMT
DTSTART:20271031T010000
END:STANDARD
END:VTIMEZONE
BEGIN:VEVENT
DTSTART;TZID=Europe/London:20260306T180000
DTEND;TZID=Europe/London:20260605T220000
DTSTAMP:20260424T000304
CREATED:20260316T114132Z
LAST-MODIFIED:20260316T115555Z
UID:10000053-1772820000-1780696800@mayhillvillage.com
SUMMARY:Pop Up Pub Food
DESCRIPTION:
URL:https://mayhillvillage.com/event/pop-up-pub-food/
LOCATION:May Hill Village Hall\, All Saints Road\,\, May Hill\, Longhope\, Gloucestershire\, GL17 0NL\, United Kingdom
ATTACH;FMTTYPE=application/pdf:https://mayhillvillage.com/wp-content/uploads/2026/03/pup-food.pdf
END:VEVENT
END:VCALENDAR