BEGIN:VCALENDAR
VERSION:2.0
PRODID:-//May Hill Village - ECPv6.15.18//NONSGML v1.0//EN
CALSCALE:GREGORIAN
METHOD:PUBLISH
X-WR-CALNAME:May Hill Village
X-ORIGINAL-URL:https://mayhillvillage.com
X-WR-CALDESC:Events for May Hill Village
REFRESH-INTERVAL;VALUE=DURATION:PT1H
X-Robots-Tag:noindex
X-PUBLISHED-TTL:PT1H
BEGIN:VTIMEZONE
TZID:Europe/London
BEGIN:DAYLIGHT
TZOFFSETFROM:+0000
TZOFFSETTO:+0100
TZNAME:BST
DTSTART:20240331T010000
END:DAYLIGHT
BEGIN:STANDARD
TZOFFSETFROM:+0100
TZOFFSETTO:+0000
TZNAME:GMT
DTSTART:20241027T010000
END:STANDARD
BEGIN:DAYLIGHT
TZOFFSETFROM:+0000
TZOFFSETTO:+0100
TZNAME:BST
DTSTART:20250330T010000
END:DAYLIGHT
BEGIN:STANDARD
TZOFFSETFROM:+0100
TZOFFSETTO:+0000
TZNAME:GMT
DTSTART:20251026T010000
END:STANDARD
BEGIN:DAYLIGHT
TZOFFSETFROM:+0000
TZOFFSETTO:+0100
TZNAME:BST
DTSTART:20260329T010000
END:DAYLIGHT
BEGIN:STANDARD
TZOFFSETFROM:+0100
TZOFFSETTO:+0000
TZNAME:GMT
DTSTART:20261025T010000
END:STANDARD
BEGIN:DAYLIGHT
TZOFFSETFROM:+0000
TZOFFSETTO:+0100
TZNAME:BST
DTSTART:20270328T010000
END:DAYLIGHT
BEGIN:STANDARD
TZOFFSETFROM:+0100
TZOFFSETTO:+0000
TZNAME:GMT
DTSTART:20271031T010000
END:STANDARD
END:VTIMEZONE
BEGIN:VEVENT
DTSTART;TZID=Europe/London:20260503T140000
DTEND;TZID=Europe/London:20260503T160000
DTSTAMP:20260422T224421
CREATED:20260221T101424Z
LAST-MODIFIED:20260221T101424Z
UID:10000044-1777816800-1777824000@mayhillvillage.com
SUMMARY:WI Cream Tea
DESCRIPTION:
URL:https://mayhillvillage.com/event/wi-cream-tea/
LOCATION:May Hill Village Hall\, All Saints Road\,\, May Hill\, Longhope\, Gloucestershire\, GL17 0NL\, United Kingdom
ATTACH;FMTTYPE=application/pdf:https://mayhillvillage.com/wp-content/uploads/2026/02/wI-bluebell-2026-1.pdf
END:VEVENT
BEGIN:VEVENT
DTSTART;TZID=Europe/London:20260501T180000
DTEND;TZID=Europe/London:20260501T220000
DTSTAMP:20260422T224421
CREATED:20260316T121253Z
LAST-MODIFIED:20260316T121253Z
UID:10000058-1777658400-1777672800@mayhillvillage.com
SUMMARY:Pop Up Pub with Phai's Kitchen
DESCRIPTION:
URL:https://mayhillvillage.com/event/pop-up-pub-with-phais-kitchen/
LOCATION:May Hill Village Hall\, All Saints Road\,\, May Hill\, Longhope\, Gloucestershire\, GL17 0NL\, United Kingdom
ATTACH;FMTTYPE=application/pdf:https://mayhillvillage.com/wp-content/uploads/2026/03/popupJuly-1.pdf
END:VEVENT
BEGIN:VEVENT
DTSTART;TZID=Europe/London:20260418T190000
DTEND;TZID=Europe/London:20260418T220000
DTSTAMP:20260422T224421
CREATED:20260219T120118Z
LAST-MODIFIED:20260219T120118Z
UID:10000041-1776538800-1776549600@mayhillvillage.com
SUMMARY:Jazz Night - A Nod to Louis
DESCRIPTION:
URL:https://mayhillvillage.com/event/jazz-night-a-nod-to-louis/
LOCATION:May Hill Village Hall\, All Saints Road\,\, May Hill\, Longhope\, Gloucestershire\, GL17 0NL\, United Kingdom
ATTACH;FMTTYPE=image/png:https://mayhillvillage.com/wp-content/uploads/2026/02/May-Hill-April-2026-2-3.png
ORGANIZER;CN="Ben & Soph's Jazz":MAILTO:benandsophsjazz@yahoo.com
END:VEVENT
BEGIN:VEVENT
DTSTART;TZID=Europe/London:20260417T184500
DTEND;TZID=Europe/London:20260417T220000
DTSTAMP:20260422T224421
CREATED:20260316T115247Z
LAST-MODIFIED:20260316T115247Z
UID:10000055-1776451500-1776463200@mayhillvillage.com
SUMMARY:Mesne Movies - All We Imagine As Light
DESCRIPTION:
URL:https://mayhillvillage.com/event/mesne-movies-all-we-imagine-as-light/
LOCATION:Cliffords Mesne Village Hall\, The Row\, Cliffords Mesne\, Newent\, GL18 1JL\, United Kingdom
ATTACH;FMTTYPE=image/png:https://mayhillvillage.com/wp-content/uploads/2026/03/all-we-imagine-as-light-mesne-movies-17.04.26.png
END:VEVENT
BEGIN:VEVENT
DTSTART;TZID=Europe/London:20260416T190000
DTEND;TZID=Europe/London:20260416T210000
DTSTAMP:20260422T224421
CREATED:20260323T133312Z
LAST-MODIFIED:20260323T133312Z
UID:10000060-1776366000-1776373200@mayhillvillage.com
SUMMARY:Taynton Parish Council Public Meeting
DESCRIPTION:
URL:https://mayhillvillage.com/event/taynton-parish-council-public-meeting/
LOCATION:May Hill Village Hall\, All Saints Road\,\, May Hill\, Longhope\, Gloucestershire\, GL17 0NL\, United Kingdom
ATTACH;FMTTYPE=image/webp:https://mayhillvillage.com/wp-content/uploads/2026/03/Gloucestershire_UK_location_map.svg_.webp
END:VEVENT
BEGIN:VEVENT
DTSTART;TZID=Europe/London:20260414T194500
DTEND;TZID=Europe/London:20260414T210000
DTSTAMP:20260422T224421
CREATED:20260312T142446Z
LAST-MODIFIED:20260312T142446Z
UID:10000051-1776195900-1776200400@mayhillvillage.com
SUMMARY:Titanic - The Untold Rescue
DESCRIPTION:
URL:https://mayhillvillage.com/event/titanic-the-untold-rescue/
LOCATION:Longhope Village Hall\, Latchen\, Longhope\, Gloucestershire\, GL17 0QE\, United Kingdom
ATTACH;FMTTYPE=image/jpeg:https://mayhillvillage.com/wp-content/uploads/2026/03/WhatsApp-Image-2026-03-11-at-5.47.48-PM.jpeg
END:VEVENT
BEGIN:VEVENT
DTSTART;TZID=Europe/London:20260403T180000
DTEND;TZID=Europe/London:20260403T220000
DTSTAMP:20260422T224421
CREATED:20260316T112021Z
LAST-MODIFIED:20260316T112021Z
UID:10000052-1775239200-1775253600@mayhillvillage.com
SUMMARY:Pop Up Pub with Bella Mia Pizza
DESCRIPTION:
URL:https://mayhillvillage.com/event/pop-up-pub-with-bella-mia-pizza/
LOCATION:May Hill Village Hall\, All Saints Road\,\, May Hill\, Longhope\, Gloucestershire\, GL17 0NL\, United Kingdom
ATTACH;FMTTYPE=application/pdf:https://mayhillvillage.com/wp-content/uploads/2026/03/popupapril.pdf
END:VEVENT
BEGIN:VEVENT
DTSTART;TZID=Europe/London:20260327T190000
DTEND;TZID=Europe/London:20260327T220000
DTSTAMP:20260422T224421
CREATED:20260316T115455Z
LAST-MODIFIED:20260316T115455Z
UID:10000056-1774638000-1774648800@mayhillvillage.com
SUMMARY:The Pocket Choral Society
DESCRIPTION:
URL:https://mayhillvillage.com/event/the-pocket-choral-society/
LOCATION:Cliffords Mesne Village Hall\, The Row\, Cliffords Mesne\, Newent\, GL18 1JL\, United Kingdom
ATTACH;FMTTYPE=image/png:https://mayhillvillage.com/wp-content/uploads/2026/03/27.03.26-pocket-choral-society-cmvh-overview-600w.png
END:VEVENT
BEGIN:VEVENT
DTSTART;TZID=Europe/London:20260324T190000
DTEND;TZID=Europe/London:20260324T210000
DTSTAMP:20260422T224421
CREATED:20260221T120505Z
LAST-MODIFIED:20260221T120505Z
UID:10000047-1774378800-1774386000@mayhillvillage.com
SUMMARY:Dressing The Georgian Lady
DESCRIPTION:
URL:https://mayhillvillage.com/event/dressing-the-georgian-lady/
LOCATION:May Hill Village Hall\, All Saints Road\,\, May Hill\, Longhope\, Gloucestershire\, GL17 0NL\, United Kingdom
ATTACH;FMTTYPE=application/pdf:https://mayhillvillage.com/wp-content/uploads/2026/02/March-1.pdf
END:VEVENT
BEGIN:VEVENT
DTSTART;TZID=Europe/London:20260320T184500
DTEND;TZID=Europe/London:20260320T220000
DTSTAMP:20260422T224421
CREATED:20260316T114917Z
LAST-MODIFIED:20260316T114917Z
UID:10000054-1774032300-1774044000@mayhillvillage.com
SUMMARY:Mesne Movies - Far From Heaven
DESCRIPTION:
URL:https://mayhillvillage.com/event/mesne-movies-far-from-heaven/
LOCATION:Cliffords Mesne Village Hall\, The Row\, Cliffords Mesne\, Newent\, GL18 1JL\, United Kingdom
ATTACH;FMTTYPE=image/png:https://mayhillvillage.com/wp-content/uploads/2026/03/far-from-heaven-mesne-movies-20.03.26.png
END:VEVENT
BEGIN:VEVENT
DTSTART;TZID=Europe/London:20260310T190000
DTEND;TZID=Europe/London:20260310T220000
DTSTAMP:20260422T224421
CREATED:20260303T084710Z
LAST-MODIFIED:20260303T084710Z
UID:10000049-1773169200-1773180000@mayhillvillage.com
SUMMARY:Garden Society Talk - Hostas & Companion Plants
DESCRIPTION:
URL:https://mayhillvillage.com/event/garden-society-talk-hostas-companion-plants/
LOCATION:May Hill Village Hall\, All Saints Road\,\, May Hill\, Longhope\, Gloucestershire\, GL17 0NL\, United Kingdom
ATTACH;FMTTYPE=application/pdf:https://mayhillvillage.com/wp-content/uploads/2026/03/March-26.pdf
ORGANIZER;CN="Gardening Society":MAILTO:peterhanley1234@gmail.com
END:VEVENT
BEGIN:VEVENT
DTSTART;TZID=Europe/London:20260308T151500
DTEND;TZID=Europe/London:20260308T170000
DTSTAMP:20260422T224421
CREATED:20260217T164101Z
LAST-MODIFIED:20260303T092554Z
UID:10000038-1772982900-1772989200@mayhillvillage.com
SUMMARY:The May Hill Quintet -Plays Schubert's Cello Quintet
DESCRIPTION:
URL:https://mayhillvillage.com/event/the-may-hill-quintet-plays-schuberts-cello-quintet/
LOCATION:May Hill House\, Yartleton Road\, May Hill\, Gloucestershire\, GL170RF\, United Kingdom
ATTACH;FMTTYPE=application/pdf:https://mayhillvillage.com/wp-content/uploads/2026/02/Quintet.pdf
END:VEVENT
BEGIN:VEVENT
DTSTART;TZID=Europe/London:20260306T180000
DTEND;TZID=Europe/London:20260306T220000
DTSTAMP:20260422T224421
CREATED:20260212T171521Z
LAST-MODIFIED:20260212T171521Z
UID:10000037-1772820000-1772834400@mayhillvillage.com
SUMMARY:March Pop Up Pub
DESCRIPTION:
URL:https://mayhillvillage.com/event/march-pop-up-pub/
LOCATION:May Hill Village Hall\, All Saints Road\,\, May Hill\, Longhope\, Gloucestershire\, GL17 0NL\, United Kingdom
ATTACH;FMTTYPE=image/jpeg:https://mayhillvillage.com/wp-content/uploads/2026/02/popupmarch.jpg
END:VEVENT
BEGIN:VEVENT
DTSTART;TZID=Europe/London:20260228T193000
DTEND;TZID=Europe/London:20260228T220000
DTSTAMP:20260422T224421
CREATED:20260112T112833Z
LAST-MODIFIED:20260112T112833Z
UID:10000029-1772307000-1772316000@mayhillvillage.com
SUMMARY:May Hill Players - Rapunzel
DESCRIPTION:
URL:https://mayhillvillage.com/event/may-hill-players-rapunzel/2026-02-28/2/
LOCATION:May Hill Village Hall\, All Saints Road\,\, May Hill\, Longhope\, Gloucestershire\, GL17 0NL\, United Kingdom
ATTACH;FMTTYPE=image/jpeg:https://mayhillvillage.com/wp-content/uploads/2026/01/607278065_1267976022032481_4059739257490525157_n.jpg
END:VEVENT
BEGIN:VEVENT
DTSTART;TZID=Europe/London:20260228T143000
DTEND;TZID=Europe/London:20260228T170000
DTSTAMP:20260422T224421
CREATED:20260112T112833Z
LAST-MODIFIED:20260112T112833Z
UID:10000028-1772289000-1772298000@mayhillvillage.com
SUMMARY:May Hill Players - Rapunzel
DESCRIPTION:
URL:https://mayhillvillage.com/event/may-hill-players-rapunzel/2026-02-28/1/
LOCATION:May Hill Village Hall\, All Saints Road\,\, May Hill\, Longhope\, Gloucestershire\, GL17 0NL\, United Kingdom
ATTACH;FMTTYPE=image/jpeg:https://mayhillvillage.com/wp-content/uploads/2026/01/607278065_1267976022032481_4059739257490525157_n.jpg
END:VEVENT
BEGIN:VEVENT
DTSTART;TZID=Europe/London:20260227T193000
DTEND;TZID=Europe/London:20260227T220000
DTSTAMP:20260422T224421
CREATED:20260112T112833Z
LAST-MODIFIED:20260112T112833Z
UID:10000027-1772220600-1772229600@mayhillvillage.com
SUMMARY:May Hill Players - Rapunzel
DESCRIPTION:
URL:https://mayhillvillage.com/event/may-hill-players-rapunzel/2026-02-27/
LOCATION:May Hill Village Hall\, All Saints Road\,\, May Hill\, Longhope\, Gloucestershire\, GL17 0NL\, United Kingdom
ATTACH;FMTTYPE=image/jpeg:https://mayhillvillage.com/wp-content/uploads/2026/01/607278065_1267976022032481_4059739257490525157_n.jpg
END:VEVENT
BEGIN:VEVENT
DTSTART;TZID=Europe/London:20260226T193000
DTEND;TZID=Europe/London:20260226T220000
DTSTAMP:20260422T224421
CREATED:20260112T112833Z
LAST-MODIFIED:20260112T112833Z
UID:10000026-1772134200-1772143200@mayhillvillage.com
SUMMARY:May Hill Players - Rapunzel
DESCRIPTION:
URL:https://mayhillvillage.com/event/may-hill-players-rapunzel/2026-02-26/
LOCATION:May Hill Village Hall\, All Saints Road\,\, May Hill\, Longhope\, Gloucestershire\, GL17 0NL\, United Kingdom
ATTACH;FMTTYPE=image/jpeg:https://mayhillvillage.com/wp-content/uploads/2026/01/607278065_1267976022032481_4059739257490525157_n.jpg
END:VEVENT
BEGIN:VEVENT
DTSTART;TZID=Europe/London:20260224T190000
DTEND;TZID=Europe/London:20260224T210000
DTSTAMP:20260422T224421
CREATED:20260221T120717Z
LAST-MODIFIED:20260221T120717Z
UID:10000048-1771959600-1771966800@mayhillvillage.com
SUMMARY:The Blue Plaque Tour of Gloucester
DESCRIPTION:
URL:https://mayhillvillage.com/event/the-blue-plaque-tour-of-gloucester/
LOCATION:May Hill Village Hall\, All Saints Road\,\, May Hill\, Longhope\, Gloucestershire\, GL17 0NL\, United Kingdom
ATTACH;FMTTYPE=application/pdf:https://mayhillvillage.com/wp-content/uploads/2026/02/Feb-2.pdf
END:VEVENT
BEGIN:VEVENT
DTSTART;TZID=Europe/London:20260215T150000
DTEND;TZID=Europe/London:20260215T170000
DTSTAMP:20260422T224421
CREATED:20260124T130356Z
LAST-MODIFIED:20260124T130356Z
UID:10000033-1771167600-1771174800@mayhillvillage.com
SUMMARY:Jazz Show & Dance
DESCRIPTION:
URL:https://mayhillvillage.com/event/jazz-show-dance/
LOCATION:May Hill Village Hall\, All Saints Road\,\, May Hill\, Longhope\, Gloucestershire\, GL17 0NL\, United Kingdom
ATTACH;FMTTYPE=image/png:https://mayhillvillage.com/wp-content/uploads/2026/01/May-Hill-Feb-2026-3.png
ORGANIZER;CN="Ben & Soph's Jazz":MAILTO:benandsophsjazz@yahoo.com
END:VEVENT
BEGIN:VEVENT
DTSTART;TZID=Europe/London:20260206T180000
DTEND;TZID=Europe/London:20260206T220000
DTSTAMP:20260422T224421
CREATED:20260112T113727Z
LAST-MODIFIED:20260112T114046Z
UID:10000030-1770400800-1770415200@mayhillvillage.com
SUMMARY:Pop Up Pub
DESCRIPTION:
URL:https://mayhillvillage.com/event/pop-up-pub-3/
LOCATION:May Hill Village Hall\, All Saints Road\,\, May Hill\, Longhope\, Gloucestershire\, GL17 0NL\, United Kingdom
ATTACH;FMTTYPE=image/jpeg:https://mayhillvillage.com/wp-content/uploads/2026/01/popupFeb25-1.jpg
END:VEVENT
BEGIN:VEVENT
DTSTART;TZID=Europe/London:20260130T193000
DTEND;TZID=Europe/London:20260130T220000
DTSTAMP:20260422T224421
CREATED:20251126T142104Z
LAST-MODIFIED:20251126T142104Z
UID:10000024-1769801400-1769810400@mayhillvillage.com
SUMMARY:What's Wrong With Benny Hill?  - National Touring Musical Comedy
DESCRIPTION:
URL:https://mayhillvillage.com/event/whats-wrong-with-benny-hill-national-touring-musical-comedy/
LOCATION:Cliffords Mesne Village Hall\, The Row\, Cliffords Mesne\, Newent\, GL18 1JL\, United Kingdom
ATTACH;FMTTYPE=image/jpeg:https://mayhillvillage.com/wp-content/uploads/2025/11/download.jpg
END:VEVENT
BEGIN:VEVENT
DTSTART;TZID=Europe/London:20260123T190000
DTEND;TZID=Europe/London:20260123T220000
DTSTAMP:20260422T224421
CREATED:20260113T172500Z
LAST-MODIFIED:20260113T172500Z
UID:10000031-1769194800-1769205600@mayhillvillage.com
SUMMARY:Mesne Movies - Another Round
DESCRIPTION:
URL:https://mayhillvillage.com/event/mesne-movies-another-round/
LOCATION:Cliffords Mesne Village Hall\, The Row\, Cliffords Mesne\, Newent\, GL18 1JL\, United Kingdom
ATTACH;FMTTYPE=image/png:https://mayhillvillage.com/wp-content/uploads/2026/01/another-round-23.01.26-mesne-movies.png
END:VEVENT
BEGIN:VEVENT
DTSTART;TZID=Europe/London:20260110T190000
DTEND;TZID=Europe/London:20260110T220000
DTSTAMP:20260422T224421
CREATED:20251128T124753Z
LAST-MODIFIED:20251128T124833Z
UID:10000025-1768071600-1768082400@mayhillvillage.com
SUMMARY:Ben & Soph's Jazz @ May Hill Village Hall
DESCRIPTION:
URL:https://mayhillvillage.com/event/ben-sophs-jazz-may-hill-village-hall/
LOCATION:May Hill Village Hall\, All Saints Road\,\, May Hill\, Longhope\, Gloucestershire\, GL17 0NL\, United Kingdom
ATTACH;FMTTYPE=image/webp:https://mayhillvillage.com/wp-content/uploads/2025/11/43838-17632316231431-m.webp
ORGANIZER;CN="Ben & Soph's Jazz":MAILTO:benandsophsjazz@yahoo.com
END:VEVENT
BEGIN:VEVENT
DTSTART;TZID=Europe/London:20260103T140000
DTEND;TZID=Europe/London:20260103T160000
DTSTAMP:20260422T224421
CREATED:20251016T115600Z
LAST-MODIFIED:20251019T133059Z
UID:10000011-1767448800-1767456000@mayhillvillage.com
SUMMARY:MESNE MOVIES Gremlins – rated 12A
DESCRIPTION:
URL:https://mayhillvillage.com/event/mesne-movies-gremlins-rated-12a/
LOCATION:Cliffords Mesne Village Hall\, The Row\, Cliffords Mesne\, Newent\, GL18 1JL\, United Kingdom
ATTACH;FMTTYPE=image/jpeg:https://mayhillvillage.com/wp-content/uploads/2025/10/712750_poster.jpg
END:VEVENT
BEGIN:VEVENT
DTSTART;TZID=Europe/London:20251219T193000
DTEND;TZID=Europe/London:20251219T220000
DTSTAMP:20260422T224421
CREATED:20251016T115041Z
LAST-MODIFIED:20251019T132922Z
UID:10000010-1766172600-1766181600@mayhillvillage.com
SUMMARY:MESNE MOVIES - Winners – rated PG
DESCRIPTION:
URL:https://mayhillvillage.com/event/mesne-movies-winners-rated-pg/
LOCATION:Cliffords Mesne Village Hall\, The Row\, Cliffords Mesne\, Newent\, GL18 1JL\, United Kingdom
ATTACH;FMTTYPE=image/jpeg:https://mayhillvillage.com/wp-content/uploads/2025/10/Winners_2022_film_poster.jpg
END:VEVENT
BEGIN:VEVENT
DTSTART;TZID=Europe/London:20251218T190000
DTEND;TZID=Europe/London:20251218T220000
DTSTAMP:20260422T224421
CREATED:20251015T112829Z
LAST-MODIFIED:20251126T145611Z
UID:10000003-1766084400-1766095200@mayhillvillage.com
SUMMARY:Quiz Night
DESCRIPTION:ALL TABLES ARE NOW SOLD! Only make payment if you are already on a team. Contact events@mayhillvillage.com to be added to the reserve list. \nQuiz night & chips! Click on website link below to buy your tickets. \nQuiz Tickets
URL:https://mayhillvillage.com/event/quiz-night/
LOCATION:May Hill Village Hall\, All Saints Road\,\, May Hill\, Longhope\, Gloucestershire\, GL17 0NL\, United Kingdom
ATTACH;FMTTYPE=image/jpeg:https://mayhillvillage.com/wp-content/uploads/2025/10/quiz3.jpg
END:VEVENT
BEGIN:VEVENT
DTSTART;TZID=Europe/London:20251209T190000
DTEND;TZID=Europe/London:20251209T210000
DTSTAMP:20260422T224421
CREATED:20251029T173955Z
LAST-MODIFIED:20251116T170830Z
UID:10000023-1765306800-1765314000@mayhillvillage.com
SUMMARY:WI - Christmas Party and Trug Making
DESCRIPTION:
URL:https://mayhillvillage.com/event/wi-christmas-party-and-trug-making/
LOCATION:May Hill Village Hall\, All Saints Road\,\, May Hill\, Longhope\, Gloucestershire\, GL17 0NL\, United Kingdom
ATTACH;FMTTYPE=image/jpeg:https://mayhillvillage.com/wp-content/uploads/2025/10/ST1_0025-960x684-1.jpg
END:VEVENT
BEGIN:VEVENT
DTSTART;TZID=Europe/London:20251205T180000
DTEND;TZID=Europe/London:20251205T220000
DTSTAMP:20260422T224421
CREATED:20251015T110106Z
LAST-MODIFIED:20251126T145021Z
UID:10000002-1764957600-1764972000@mayhillvillage.com
SUMMARY:Christmas Pop Up Pub
DESCRIPTION:
URL:https://mayhillvillage.com/event/pop-up-pub-2/
LOCATION:May Hill Village Hall\, All Saints Road\,\, May Hill\, Longhope\, Gloucestershire\, GL17 0NL\, United Kingdom
ATTACH;FMTTYPE=image/jpeg:https://mayhillvillage.com/wp-content/uploads/2025/10/xmaspup.jpg
END:VEVENT
BEGIN:VEVENT
DTSTART;TZID=Europe/London:20251202T190000
DTEND;TZID=Europe/London:20251202T210000
DTSTAMP:20260422T224421
CREATED:20251029T173213Z
LAST-MODIFIED:20251029T173736Z
UID:10000021-1764702000-1764709200@mayhillvillage.com
SUMMARY:Garden Society - Flower Decorations for Christmas and Social Evening
DESCRIPTION:
URL:https://mayhillvillage.com/event/garden-society-flower-decorations-for-christmas-and-social-evening/
LOCATION:May Hill Village Hall\, All Saints Road\,\, May Hill\, Longhope\, Gloucestershire\, GL17 0NL\, United Kingdom
ATTACH;FMTTYPE=image/jpeg:https://mayhillvillage.com/wp-content/uploads/2025/10/Winter_Forest_dried_flowers_medium_0b54aaf8-f14e-4b01-be3e-9d028e73f020_1024x1024.jpg
END:VEVENT
BEGIN:VEVENT
DTSTART;TZID=Europe/London:20251201T200000
DTEND;TZID=Europe/London:20251201T210000
DTSTAMP:20260422T224421
CREATED:20251017T091953Z
LAST-MODIFIED:20251020T084258Z
UID:10000014-1764619200-1764622800@mayhillvillage.com
SUMMARY:May Hill Hall Annual General Meeting
DESCRIPTION:Everyone welcome – complementary wine and nibbles!
URL:https://mayhillvillage.com/event/may-hill-hall-annual-general-meeting/
LOCATION:May Hill Village Hall\, All Saints Road\,\, May Hill\, Longhope\, Gloucestershire\, GL17 0NL\, United Kingdom
ATTACH;FMTTYPE=image/jpeg:https://mayhillvillage.com/wp-content/uploads/2025/10/agm-2.jpg
END:VEVENT
END:VCALENDAR