BEGIN:VCALENDAR
VERSION:2.0
PRODID:-//May Hill Village - ECPv6.15.18//NONSGML v1.0//EN
CALSCALE:GREGORIAN
METHOD:PUBLISH
X-WR-CALNAME:May Hill Village
X-ORIGINAL-URL:https://mayhillvillage.com
X-WR-CALDESC:Events for May Hill Village
REFRESH-INTERVAL;VALUE=DURATION:PT1H
X-Robots-Tag:noindex
X-PUBLISHED-TTL:PT1H
BEGIN:VTIMEZONE
TZID:Europe/London
BEGIN:DAYLIGHT
TZOFFSETFROM:+0000
TZOFFSETTO:+0100
TZNAME:BST
DTSTART:20240331T010000
END:DAYLIGHT
BEGIN:STANDARD
TZOFFSETFROM:+0100
TZOFFSETTO:+0000
TZNAME:GMT
DTSTART:20241027T010000
END:STANDARD
BEGIN:DAYLIGHT
TZOFFSETFROM:+0000
TZOFFSETTO:+0100
TZNAME:BST
DTSTART:20250330T010000
END:DAYLIGHT
BEGIN:STANDARD
TZOFFSETFROM:+0100
TZOFFSETTO:+0000
TZNAME:GMT
DTSTART:20251026T010000
END:STANDARD
BEGIN:DAYLIGHT
TZOFFSETFROM:+0000
TZOFFSETTO:+0100
TZNAME:BST
DTSTART:20260329T010000
END:DAYLIGHT
BEGIN:STANDARD
TZOFFSETFROM:+0100
TZOFFSETTO:+0000
TZNAME:GMT
DTSTART:20261025T010000
END:STANDARD
END:VTIMEZONE
BEGIN:VEVENT
DTSTART;TZID=Europe/London:20251107T180000
DTEND;TZID=Europe/London:20251107T220000
DTSTAMP:20260422T230701
CREATED:20251015T105924Z
LAST-MODIFIED:20251025T160308Z
UID:10000001-1762538400-1762552800@mayhillvillage.com
SUMMARY:Pop Up Pub
DESCRIPTION:
URL:https://mayhillvillage.com/event/pop-up-pub/
LOCATION:May Hill Village Hall\, All Saints Road\,\, May Hill\, Longhope\, Gloucestershire\, GL17 0NL\, United Kingdom
ATTACH;FMTTYPE=image/jpeg:https://mayhillvillage.com/wp-content/uploads/2025/10/popupNov25.jpg
END:VEVENT
BEGIN:VEVENT
DTSTART;TZID=Europe/London:20251107T180000
DTEND;TZID=Europe/London:20251107T210000
DTSTAMP:20260422T230701
CREATED:20251025T161110Z
LAST-MODIFIED:20251025T161451Z
UID:10000018-1762538400-1762549200@mayhillvillage.com
SUMMARY:Order your food for the Pop Up Pub from Hey Pesto  email: enquiries@heypestocatering.co.uk
DESCRIPTION:
URL:https://mayhillvillage.com/event/pop-up-pub-food-from-hey-pesto/
LOCATION:May Hill Village Hall\, All Saints Road\,\, May Hill\, Longhope\, Gloucestershire\, GL17 0NL\, United Kingdom
ATTACH;FMTTYPE=image/jpeg:https://mayhillvillage.com/wp-content/uploads/2025/10/WhatsApp-Image-2025-10-25-at-16.43.48_c912525f.jpg
ORGANIZER;CN="Hey Pesto":MAILTO:enquiries@heypestocatering.co.uk
END:VEVENT
BEGIN:VEVENT
DTSTART;TZID=Europe/London:20251024T193000
DTEND;TZID=Europe/London:20251024T223000
DTSTAMP:20260422T230701
CREATED:20251016T120616Z
LAST-MODIFIED:20251021T162420Z
UID:10000012-1761334200-1761345000@mayhillvillage.com
SUMMARY:Good Habits Award Winning Indie-Folk Fusion
DESCRIPTION:
URL:https://mayhillvillage.com/event/good-habits-award-winning-indie-folk-fusion/
LOCATION:Cliffords Mesne Village Hall\, The Row\, Cliffords Mesne\, Newent\, GL18 1JL\, United Kingdom
ATTACH;FMTTYPE=image/png:https://mayhillvillage.com/wp-content/uploads/2025/10/good-habits-oct-2025.png
END:VEVENT
END:VCALENDAR